BEGIN:VCALENDAR
VERSION:2.0
PRODID:
CALSCALE:GREGORIAN
METHOD:PUBLISH
BEGIN:VTIMEZONE
TZID:America/New_York
BEGIN:STANDARD
DTSTART:20241103T060000
TZOFFSETTO:-0500
TZOFFSETFROM:-0400
RRULE:FREQ=YEARLY;BYMONTH=11;BYDAY=1SU
END:STANDARD
BEGIN:DAYLIGHT
DTSTART:20240310T070000
TZOFFSETTO:-0400
TZOFFSETFROM:-0500
RRULE:FREQ=YEARLY;BYMONTH=3;BYDAY=2SU
END:DAYLIGHT
END:VTIMEZONE
BEGIN:VEVENT
UID:
DTSTART:20241004T090000
DTEND:20241004T170000
SUMMARY:5e CMI SYMPOSIUM, 'Dialoog Centraal: Laboratorium en Kliniek i
 n Verbinding' Vernieuwende diagnostiek voor immunologische en hematolo
 gische ziekten.
DESCRIPTION:
DTSTAMP:20260423T100914Z
END:VEVENT
END:VCALENDAR
